BEGIN:VCALENDAR
VERSION:2.0
PRODID:-//Hjärtumsgården - ECPv6.15.15//NONSGML v1.0//EN
CALSCALE:GREGORIAN
METHOD:PUBLISH
X-WR-CALNAME:Hjärtumsgården
X-ORIGINAL-URL:https://hjartumsgarden.se
X-WR-CALDESC:Evenemang för Hjärtumsgården
REFRESH-INTERVAL;VALUE=DURATION:PT1H
X-Robots-Tag:noindex
X-PUBLISHED-TTL:PT1H
BEGIN:VTIMEZONE
TZID:Europe/Stockholm
BEGIN:DAYLIGHT
TZOFFSETFROM:+0100
TZOFFSETTO:+0200
TZNAME:CEST
DTSTART:20230326T010000
END:DAYLIGHT
BEGIN:STANDARD
TZOFFSETFROM:+0200
TZOFFSETTO:+0100
TZNAME:CET
DTSTART:20231029T010000
END:STANDARD
BEGIN:DAYLIGHT
TZOFFSETFROM:+0100
TZOFFSETTO:+0200
TZNAME:CEST
DTSTART:20240331T010000
END:DAYLIGHT
BEGIN:STANDARD
TZOFFSETFROM:+0200
TZOFFSETTO:+0100
TZNAME:CET
DTSTART:20241027T010000
END:STANDARD
BEGIN:DAYLIGHT
TZOFFSETFROM:+0100
TZOFFSETTO:+0200
TZNAME:CEST
DTSTART:20250330T010000
END:DAYLIGHT
BEGIN:STANDARD
TZOFFSETFROM:+0200
TZOFFSETTO:+0100
TZNAME:CET
DTSTART:20251026T010000
END:STANDARD
END:VTIMEZONE
BEGIN:VEVENT
DTSTART;TZID=Europe/Stockholm:20240927T200000
DTEND;TZID=Europe/Stockholm:20240927T233000
DTSTAMP:20260419T193029
CREATED:20240925T083518Z
LAST-MODIFIED:20240925T083629Z
UID:1014-1727467200-1727479800@hjartumsgarden.se
SUMMARY:Dún Aengus LIVE
DESCRIPTION:Dún Aengus\, en duo med Peter Andersson och Martin Rahmberg. Namnet på bandet kommer från ett gammalt stenfort på ön Inishmore strax utanför Irlands västkust. Vi sjunger båda och Martin spelar gitarr och Peter tenorbanjo. Dún Aengus har en rik repertoar av irländska låtar och sånger. Musik från Skottland har också varit ett stort inflytande på oss\, men vi spelar också moderna låtar om vi känner det nödvändigt.
URL:https://hjartumsgarden.se/evenemang/dun-aengus-live/
LOCATION:Hjärtumsgården\, NEDRA HJÄRTUM 120\, Hjärtum\, 46375\, Sverige
CATEGORIES:Musik
ATTACH;FMTTYPE=image/png:https://hjartumsgarden.se/wp-content/uploads/2024/09/dun_aengus_event.png
END:VEVENT
END:VCALENDAR