BEGIN:VCALENDAR
VERSION:2.0
PRODID:-//Hjärtumsgården - ECPv6.15.15//NONSGML v1.0//EN
CALSCALE:GREGORIAN
METHOD:PUBLISH
X-WR-CALNAME:Hjärtumsgården
X-ORIGINAL-URL:https://hjartumsgarden.se
X-WR-CALDESC:Evenemang för Hjärtumsgården
REFRESH-INTERVAL;VALUE=DURATION:PT1H
X-Robots-Tag:noindex
X-PUBLISHED-TTL:PT1H
BEGIN:VTIMEZONE
TZID:Europe/Stockholm
BEGIN:DAYLIGHT
TZOFFSETFROM:+0100
TZOFFSETTO:+0200
TZNAME:CEST
DTSTART:20230326T010000
END:DAYLIGHT
BEGIN:STANDARD
TZOFFSETFROM:+0200
TZOFFSETTO:+0100
TZNAME:CET
DTSTART:20231029T010000
END:STANDARD
BEGIN:DAYLIGHT
TZOFFSETFROM:+0100
TZOFFSETTO:+0200
TZNAME:CEST
DTSTART:20240331T010000
END:DAYLIGHT
BEGIN:STANDARD
TZOFFSETFROM:+0200
TZOFFSETTO:+0100
TZNAME:CET
DTSTART:20241027T010000
END:STANDARD
BEGIN:DAYLIGHT
TZOFFSETFROM:+0100
TZOFFSETTO:+0200
TZNAME:CEST
DTSTART:20250330T010000
END:DAYLIGHT
BEGIN:STANDARD
TZOFFSETFROM:+0200
TZOFFSETTO:+0100
TZNAME:CET
DTSTART:20251026T010000
END:STANDARD
END:VTIMEZONE
BEGIN:VEVENT
DTSTART;TZID=Europe/Stockholm:20241201T110000
DTEND;TZID=Europe/Stockholm:20241201T140000
DTSTAMP:20260419T213426
CREATED:20240520T065410Z
LAST-MODIFIED:20240520T065410Z
UID:996-1733050800-1733061600@hjartumsgarden.se
SUMMARY:Hjärtums IS julmarknad
DESCRIPTION:Ta med familj och vänner och besök Hjärtums IS mysiga julmarknad! \nDet kommer att finnas en mängd olika utställare\, fika\, lotteri mm. \nÄr du sugen på att boka ett bord? \nHör av dig till Josefin på tel 0739-34 32 86. \nKostnad 100kr/bord. \nHjärtums Vintage & Loppis har också öppet (med jultema) i Hjärtumsgården under julmarknaden!
URL:https://hjartumsgarden.se/evenemang/hjartums-is-julmarknad/
LOCATION:Hjärtumsgården\, NEDRA HJÄRTUM 120\, Hjärtum\, 46375\, Sverige
CATEGORIES:Hjärtums Vintage,Marknad / Försäljning
ATTACH;FMTTYPE=image/jpeg:https://hjartumsgarden.se/wp-content/uploads/2024/05/jul-scaled.jpg
ORGANIZER;CN="Hj%C3%A4rtums IS":MAILTO:kansli@hjartumsis.com
END:VEVENT
END:VCALENDAR