BEGIN:VCALENDAR
VERSION:2.0
PRODID:-//Hjärtumsgården - ECPv6.15.15//NONSGML v1.0//EN
CALSCALE:GREGORIAN
METHOD:PUBLISH
X-WR-CALNAME:Hjärtumsgården
X-ORIGINAL-URL:https://hjartumsgarden.se
X-WR-CALDESC:Evenemang för Hjärtumsgården
REFRESH-INTERVAL;VALUE=DURATION:PT1H
X-Robots-Tag:noindex
X-PUBLISHED-TTL:PT1H
BEGIN:VTIMEZONE
TZID:Europe/Stockholm
BEGIN:DAYLIGHT
TZOFFSETFROM:+0100
TZOFFSETTO:+0200
TZNAME:CEST
DTSTART:20230326T010000
END:DAYLIGHT
BEGIN:STANDARD
TZOFFSETFROM:+0200
TZOFFSETTO:+0100
TZNAME:CET
DTSTART:20231029T010000
END:STANDARD
BEGIN:DAYLIGHT
TZOFFSETFROM:+0100
TZOFFSETTO:+0200
TZNAME:CEST
DTSTART:20240331T010000
END:DAYLIGHT
BEGIN:STANDARD
TZOFFSETFROM:+0200
TZOFFSETTO:+0100
TZNAME:CET
DTSTART:20241027T010000
END:STANDARD
BEGIN:DAYLIGHT
TZOFFSETFROM:+0100
TZOFFSETTO:+0200
TZNAME:CEST
DTSTART:20250330T010000
END:DAYLIGHT
BEGIN:STANDARD
TZOFFSETFROM:+0200
TZOFFSETTO:+0100
TZNAME:CET
DTSTART:20251026T010000
END:STANDARD
END:VTIMEZONE
BEGIN:VEVENT
DTSTART;TZID=Europe/Stockholm:20240926T180000
DTEND;TZID=Europe/Stockholm:20240926T200000
DTSTAMP:20260419T200103
CREATED:20240520T063451Z
LAST-MODIFIED:20240925T080715Z
UID:992-1727373600-1727380800@hjartumsgarden.se
SUMMARY:INSTÄLLT! Informationskväll avseende krisberedskap & säkerhet
DESCRIPTION:INSTÄLLD!\nNytt tillfälle kommer för detta.\n\nInformationskväll avseende krisberedskap & säkerhet\n\nLilla Edets kommuns säkerhetschef David Morgard medverkar.\n\nMer info kommer\n\nFörsäljning av kvällsmat
URL:https://hjartumsgarden.se/evenemang/informationskvall-avseende-krisberedskap-sakerhet/
LOCATION:Stora salen\, Hjärtumsgården\, Nedre Hjärtum 120\, Hjärtum\, 46375\, Sverige
CATEGORIES:Kommuninformation,Marknad / Försäljning
ATTACH;FMTTYPE=image/png:https://hjartumsgarden.se/wp-content/uploads/2024/05/Logotyp-Lilla-Edets-kommun-staende-farg-svart-text.png
ORGANIZER;CN="Lilla Edets kommun":MAILTO:kommunen@lillaedet.se
END:VEVENT
END:VCALENDAR