BEGIN:VCALENDAR
VERSION:2.0
PRODID:-//Hjärtumsgården - ECPv6.15.15//NONSGML v1.0//EN
CALSCALE:GREGORIAN
METHOD:PUBLISH
X-WR-CALNAME:Hjärtumsgården
X-ORIGINAL-URL:https://hjartumsgarden.se
X-WR-CALDESC:Evenemang för Hjärtumsgården
REFRESH-INTERVAL;VALUE=DURATION:PT1H
X-Robots-Tag:noindex
X-PUBLISHED-TTL:PT1H
BEGIN:VTIMEZONE
TZID:Europe/Stockholm
BEGIN:DAYLIGHT
TZOFFSETFROM:+0100
TZOFFSETTO:+0200
TZNAME:CEST
DTSTART:20240331T010000
END:DAYLIGHT
BEGIN:STANDARD
TZOFFSETFROM:+0200
TZOFFSETTO:+0100
TZNAME:CET
DTSTART:20241027T010000
END:STANDARD
BEGIN:DAYLIGHT
TZOFFSETFROM:+0100
TZOFFSETTO:+0200
TZNAME:CEST
DTSTART:20250330T010000
END:DAYLIGHT
BEGIN:STANDARD
TZOFFSETFROM:+0200
TZOFFSETTO:+0100
TZNAME:CET
DTSTART:20251026T010000
END:STANDARD
BEGIN:DAYLIGHT
TZOFFSETFROM:+0100
TZOFFSETTO:+0200
TZNAME:CEST
DTSTART:20260329T010000
END:DAYLIGHT
BEGIN:STANDARD
TZOFFSETFROM:+0200
TZOFFSETTO:+0100
TZNAME:CET
DTSTART:20261025T010000
END:STANDARD
END:VTIMEZONE
BEGIN:VEVENT
DTSTART;TZID=Europe/Stockholm:20251130T110000
DTEND;TZID=Europe/Stockholm:20251130T140000
DTSTAMP:20260420T100323
CREATED:20251025T081809Z
LAST-MODIFIED:20251025T081847Z
UID:1130-1764500400-1764511200@hjartumsgarden.se
SUMMARY:JULMARKNAD
DESCRIPTION:Hjärtums Idrottssällskaps Julmarknad \nHantverk\, lotter & fika \nVarmt Välkomna! \n 
URL:https://hjartumsgarden.se/evenemang/jularknad/
LOCATION:Stora salen\, Hjärtumsgården\, Nedre Hjärtum 120\, Hjärtum\, 46375\, Sverige
ORGANIZER;CN="Hj%C3%A4rtums IS":MAILTO:kansli@hjartumsis.com
END:VEVENT
BEGIN:VEVENT
DTSTART;TZID=Europe/Stockholm:20251207T170000
DTEND;TZID=Europe/Stockholm:20251207T193000
DTSTAMP:20260420T100323
CREATED:20251104T085705Z
LAST-MODIFIED:20251104T085705Z
UID:1152-1765126800-1765135800@hjartumsgarden.se
SUMMARY:JULKONSERT KL 17\,00 med Duo 1810
DESCRIPTION:
URL:https://hjartumsgarden.se/evenemang/julkonsert-kl-1700-med-duo-1810/
LOCATION:Stora salen\, Hjärtumsgården\, Nedre Hjärtum 120\, Hjärtum\, 46375\, Sverige
CATEGORIES:Musik
END:VEVENT
END:VCALENDAR